BEGIN:VCALENDAR
VERSION:2.0
PRODID:-//Graine de Courage, Sourire pour Parkinson - ECPv6.15.20//NONSGML v1.0//EN
CALSCALE:GREGORIAN
METHOD:PUBLISH
X-WR-CALNAME:Graine de Courage, Sourire pour Parkinson
X-ORIGINAL-URL:https://fondation-os.fr/os-ouest/APIV
X-WR-CALDESC:Évènements pour Graine de Courage, Sourire pour Parkinson
REFRESH-INTERVAL;VALUE=DURATION:PT1H
X-Robots-Tag:noindex
X-PUBLISHED-TTL:PT1H
BEGIN:VTIMEZONE
TZID:Europe/Paris
BEGIN:DAYLIGHT
TZOFFSETFROM:+0100
TZOFFSETTO:+0200
TZNAME:CEST
DTSTART:20230326T010000
END:DAYLIGHT
BEGIN:STANDARD
TZOFFSETFROM:+0200
TZOFFSETTO:+0100
TZNAME:CET
DTSTART:20231029T010000
END:STANDARD
BEGIN:DAYLIGHT
TZOFFSETFROM:+0100
TZOFFSETTO:+0200
TZNAME:CEST
DTSTART:20240331T010000
END:DAYLIGHT
BEGIN:STANDARD
TZOFFSETFROM:+0200
TZOFFSETTO:+0100
TZNAME:CET
DTSTART:20241027T010000
END:STANDARD
BEGIN:DAYLIGHT
TZOFFSETFROM:+0100
TZOFFSETTO:+0200
TZNAME:CEST
DTSTART:20250330T010000
END:DAYLIGHT
BEGIN:STANDARD
TZOFFSETFROM:+0200
TZOFFSETTO:+0100
TZNAME:CET
DTSTART:20251026T010000
END:STANDARD
END:VTIMEZONE
BEGIN:VEVENT
DTSTART;TZID=Europe/Paris:20241219T140000
DTEND;TZID=Europe/Paris:20241219T170000
DTSTAMP:20260421T102022
CREATED:20241222T162157Z
LAST-MODIFIED:20241222T162411Z
UID:5645-1734616800-1734627600@fondation-os.fr
SUMMARY:Assemblée Générale Extraordinaire
DESCRIPTION:Ainsi que nous vous l’avons annoncé\, une Assemblée Générale Extraordinaire aura lieu ce 19 décembre 2024 au Kiosque à Chantepie pour approuver la fusion par absorption de l’APIV par Graine de Courage. Nous vous remercions à l’avance de votre présence. \nA très bientôt
URL:https://fondation-os.fr/os-ouest/APIV/event/assemblee-generale-extraordinaire-le-19-decembre-2024/
LOCATION:Le Kiosque – Rennes Métropole\, 10 Avenue des Méliettes\, Chantepie\, 35135\, France
CATEGORIES:À venir,Vie de l'association
END:VEVENT
END:VCALENDAR